BEGIN:VCALENDAR
VERSION:2.0
PRODID:-//Lodi Growers - ECPv6.15.20//NONSGML v1.0//EN
CALSCALE:GREGORIAN
METHOD:PUBLISH
X-WR-CALNAME:Lodi Growers
X-ORIGINAL-URL:https://lodigrowers.com
X-WR-CALDESC:Events for Lodi Growers
REFRESH-INTERVAL;VALUE=DURATION:PT1H
X-Robots-Tag:noindex
X-PUBLISHED-TTL:PT1H
BEGIN:VTIMEZONE
TZID:UTC
BEGIN:STANDARD
TZOFFSETFROM:+0000
TZOFFSETTO:+0000
TZNAME:UTC
DTSTART:20150101T000000
END:STANDARD
END:VTIMEZONE
BEGIN:VEVENT
DTSTART;TZID=UTC:20160504T140000
DTEND;TZID=UTC:20160504T160000
DTSTAMP:20260422T102236
CREATED:20160423T065232Z
LAST-MODIFIED:20160426T235332Z
UID:10000261-1462370400-1462377600@lodigrowers.com
SUMMARY:Grower Marketing Comm. (5/4)
DESCRIPTION:Grower Marketing Committee\nMeeting Notice and Agenda\nSent & Posted April 22\, 2016 \nThe Grower Marketing Committee of the Lodi Winegrape Commission will meet: \nDate:	Wednesday\, May 4\, 2016\nTime:	2:00 PM\nPlace:	LWC Office\, 2545 W. Turner Rd.\, Lodi CA \nThe agenda for the meeting is as follows: \n1.	Call to order \n2.	Roll call and establishment of quorum \n3.	Review April 6\, 2016 meeting minutes \n4.	Advertising Campaign Update \n5.	Public Relations Activities \n6.	Grape Marketing Activities \n7.	Budget Review & Request for 2016/17 \n8.	Public Comment on Items Not Appearing on the Agenda \n9.	Agenda Items for Future Meetings \n10.	Set next meeting date \n11.	Adjourn \nAction may be taken on any of the items listed above.  Questions regarding the meeting should be directed to Ben Kolber (367-8996) or Stuart Spencer (367-4727). Persons with disabilities needing special accommodation should contact Stuart Spencer at least five days prior to the meeting. This notice and agenda is available on the internet in Upcoming Meetings and Events on www.lodigrowers.com.
URL:https://lodigrowers.com/event/grower-marketing-comm-54/
LOCATION:Lodi Winegrape Commission
END:VEVENT
END:VCALENDAR