BEGIN:VCALENDAR
VERSION:2.0
PRODID:-//Lodi Growers - ECPv6.15.20//NONSGML v1.0//EN
CALSCALE:GREGORIAN
METHOD:PUBLISH
X-ORIGINAL-URL:https://lodigrowers.com
X-WR-CALDESC:Events for Lodi Growers
REFRESH-INTERVAL;VALUE=DURATION:PT1H
X-Robots-Tag:noindex
X-PUBLISHED-TTL:PT1H
BEGIN:VTIMEZONE
TZID:America/Los_Angeles
BEGIN:DAYLIGHT
TZOFFSETFROM:-0800
TZOFFSETTO:-0700
TZNAME:PDT
DTSTART:20150308T100000
END:DAYLIGHT
BEGIN:STANDARD
TZOFFSETFROM:-0700
TZOFFSETTO:-0800
TZNAME:PST
DTSTART:20151101T090000
END:STANDARD
BEGIN:DAYLIGHT
TZOFFSETFROM:-0800
TZOFFSETTO:-0700
TZNAME:PDT
DTSTART:20160313T100000
END:DAYLIGHT
BEGIN:STANDARD
TZOFFSETFROM:-0700
TZOFFSETTO:-0800
TZNAME:PST
DTSTART:20161106T090000
END:STANDARD
BEGIN:DAYLIGHT
TZOFFSETFROM:-0800
TZOFFSETTO:-0700
TZNAME:PDT
DTSTART:20170312T100000
END:DAYLIGHT
BEGIN:STANDARD
TZOFFSETFROM:-0700
TZOFFSETTO:-0800
TZNAME:PST
DTSTART:20171105T090000
END:STANDARD
END:VTIMEZONE
BEGIN:VTIMEZONE
TZID:UTC
BEGIN:STANDARD
TZOFFSETFROM:+0000
TZOFFSETTO:+0000
TZNAME:UTC
DTSTART:20150101T000000
END:STANDARD
END:VTIMEZONE
BEGIN:VEVENT
DTSTART;TZID=America/Los_Angeles:20161212T120000
DTEND;TZID=America/Los_Angeles:20161212T150000
DTSTAMP:20260422T141241
CREATED:20161201T022601Z
LAST-MODIFIED:20161201T022601Z
UID:10000300-1481544000-1481554800@lodigrowers.com
SUMMARY:Lodi Rules Committee Meeting
DESCRIPTION:LODI WINEGRAPE COMMISSION \nLODI RULES COMMITTEE \nNOTICE AND AGENDA \nSent and posted on November 30th\, 2016 \nDate:   Monday\, December 12th\, 2016 \nTime:  12:00 PM \nPlace:  Lodi Winegrape Commission Conference Room\, 2545 W. Turner Rd.\, Lodi CA 95242 \nThe agenda for the meeting is as follows: \n\nCall to order\n\n\nRoll call and establishment of quorum\n\n\nConsideration of the November 7th\, 2016 meeting minutes\n\n\nPublic comment on items appearing on the agenda\n\n\nProgram update\n\n\nRevisions\nWinery Communications\nSummary of annual Protected Harvest & SureHarvest meeting\n\n\nProtected Harvest contract\n\n\nMarketing of the Lodi Rules Program\n\n\nJanuary year-end recap event\n\n\nGreen Medal Award\n\n\nProgram vision development\n\n\nBudget review\n\n\nOther business\n\n\nPublic comment on items not appearing on the agenda\n\n\nFuture agenda items\n\n\nSchedule next meeting\n\n\nAdjourn\n\nAction may be taken on any of the items listed above.  Questions regarding the meeting should be directed to Aaron Shinn (209-747-9595) or Stuart Spencer (209-367-4727). Persons with disabilities needing special accommodation should contact Stuart Spencer\, Program Manager\, stuart@lodiwine.com at least five days prior to the meeting. This notice and agenda is available on the internet in Upcoming Meetings and Events on www.lodigrowers.com.
URL:https://lodigrowers.com/event/lodi-rules-committee-meeting-3/
LOCATION:Lodi Winegrape Commission
END:VEVENT
BEGIN:VEVENT
DTSTART;TZID=UTC:20160711T120000
DTEND;TZID=UTC:20160711T140000
DTSTAMP:20260422T141241
CREATED:20160624T042344Z
LAST-MODIFIED:20160624T042344Z
UID:10000274-1468238400-1468245600@lodigrowers.com
SUMMARY:Lodi Rules Committee
DESCRIPTION:LODI WINEGRAPE COMMISSION\nLODI RULES COMMITTEE\nNOTICE AND AGENDA\nSent and posted on June 23\, 2016 \nDate:   Monday\, July 11\, 2016\nTime:  12:00 PM\nPlace:  Lodi Winegrape Commission Conference Room\n	2545 W. Turner Rd.\, Lodi CA \nThe agenda for the meeting is as follows: \n1.	Call to order\n2.	Roll call and establishment of quorum\n3.	Review and approve May 23\, 2016 meeting minutes \n4.	Update on Program \n5.	Marketing of the Lodi Rules Program\n•	Golan Heights\n•	Table Grapes \n6.	Budget review \n7.	Other business \n8.	Public comment on items not appearing on the agenda \n9.	Future agenda items \n10.	Set next meeting date \n11.	Adjourn\nAction may be taken on any of the items listed above.  Questions regarding the meeting should be directed to Aaron Shinn (209-747-9595) or Stuart Spencer (209-367-4727). Persons with disabilities needing special accommodation should contact Stuart Spencer\, Program Manager\, stuart@lodiwine.com at least five days prior to the meeting. This notice and agenda is available on the internet in Upcoming Meetings and Events on www.lodigrowers.com
URL:https://lodigrowers.com/event/lodi-rules-committee/
LOCATION:Lodi Winegrape Commission
END:VEVENT
END:VCALENDAR