BEGIN:VCALENDAR
VERSION:2.0
PRODID:-//Lodi Growers - ECPv6.15.20//NONSGML v1.0//EN
CALSCALE:GREGORIAN
METHOD:PUBLISH
X-ORIGINAL-URL:https://lodigrowers.com
X-WR-CALDESC:Events for Lodi Growers
REFRESH-INTERVAL;VALUE=DURATION:PT1H
X-Robots-Tag:noindex
X-PUBLISHED-TTL:PT1H
BEGIN:VTIMEZONE
TZID:America/Los_Angeles
BEGIN:DAYLIGHT
TZOFFSETFROM:-0800
TZOFFSETTO:-0700
TZNAME:PDT
DTSTART:20150308T100000
END:DAYLIGHT
BEGIN:STANDARD
TZOFFSETFROM:-0700
TZOFFSETTO:-0800
TZNAME:PST
DTSTART:20151101T090000
END:STANDARD
BEGIN:DAYLIGHT
TZOFFSETFROM:-0800
TZOFFSETTO:-0700
TZNAME:PDT
DTSTART:20160313T100000
END:DAYLIGHT
BEGIN:STANDARD
TZOFFSETFROM:-0700
TZOFFSETTO:-0800
TZNAME:PST
DTSTART:20161106T090000
END:STANDARD
BEGIN:DAYLIGHT
TZOFFSETFROM:-0800
TZOFFSETTO:-0700
TZNAME:PDT
DTSTART:20170312T100000
END:DAYLIGHT
BEGIN:STANDARD
TZOFFSETFROM:-0700
TZOFFSETTO:-0800
TZNAME:PST
DTSTART:20171105T090000
END:STANDARD
BEGIN:DAYLIGHT
TZOFFSETFROM:-0800
TZOFFSETTO:-0700
TZNAME:PDT
DTSTART:20180311T100000
END:DAYLIGHT
BEGIN:STANDARD
TZOFFSETFROM:-0700
TZOFFSETTO:-0800
TZNAME:PST
DTSTART:20181104T090000
END:STANDARD
BEGIN:DAYLIGHT
TZOFFSETFROM:-0800
TZOFFSETTO:-0700
TZNAME:PDT
DTSTART:20190310T100000
END:DAYLIGHT
BEGIN:STANDARD
TZOFFSETFROM:-0700
TZOFFSETTO:-0800
TZNAME:PST
DTSTART:20191103T090000
END:STANDARD
BEGIN:DAYLIGHT
TZOFFSETFROM:-0800
TZOFFSETTO:-0700
TZNAME:PDT
DTSTART:20200308T100000
END:DAYLIGHT
BEGIN:STANDARD
TZOFFSETFROM:-0700
TZOFFSETTO:-0800
TZNAME:PST
DTSTART:20201101T090000
END:STANDARD
END:VTIMEZONE
BEGIN:VTIMEZONE
TZID:UTC
BEGIN:STANDARD
TZOFFSETFROM:+0000
TZOFFSETTO:+0000
TZNAME:UTC
DTSTART:20150101T000000
END:STANDARD
END:VTIMEZONE
BEGIN:VEVENT
DTSTART;TZID=America/Los_Angeles:20190610T120000
DTEND;TZID=America/Los_Angeles:20190610T140000
DTSTAMP:20260420T220335
CREATED:20180917T222535Z
LAST-MODIFIED:20190528T175338Z
UID:10000449-1560168000-1560175200@lodigrowers.com
SUMMARY:LODI RULES COMM. MEETING
DESCRIPTION:LODI WINEGRAPE COMMISSION\nLODI RULES COMMITTEE\nNOTICE AND AGENDA \nSent and posted on May 28th\, 2019 \nDate:    Monday\, June 10th\, 2019\nTime:   12:00 PM\nPlace:   Lodi Winegrape Commission Conference Room\, 2545 W. Turner Rd.\, Lodi CA 95242 \nThe agenda for the meeting is as follows: \n\nCall to order\nRoll call and establishment of quorum\nConsideration of the February 25th\, 2019 meeting minutes\nPublic comment on items appearing on the agenda (2-minute limit per person)\nProgram updates:\n\nMarketing & Promotions – video\, materials\, website\, events\nWinery communications\nProtected Harvest and SureHarvest news\nPesticide Risk Model for 2020 certification year & beyond\n\n\nFY2018-2019 Budget review & FY2019-2020 Budget request\nBrief reports from other Lodi Winegrape Commission Committees\, focusing on LODI RULES connections:\n\nGrower Marketing\nLodi Wine Country\nResearch\, Education\, & Communications\n\n\nPublic comment on items not appearing on the agenda (2-minute limit per person)\nFuture agenda items\nSchedule next meetings\nAdjourn\n\nAction may be taken on any of the items listed above.  Questions regarding the meeting should be directed to Aaron Shinn (209-747-9595) or Stuart Spencer (209-367-4727). Persons with disabilities needing special accommodation should contact Stuart Spencer\, Program Manager\, stuart@lodiwine.com at least five days prior to the meeting. This notice and agenda is available on the internet in Upcoming Meetings and Events on www.lodigrowers.com.
URL:https://lodigrowers.com/event/lodi-rules-comm-meeting-15/
LOCATION:Lodi Winegrape Commission\, 2545 West Turner Road\, Lodi\, CA\, 95242\, United States
GEO:38.1459652;-121.307667
X-APPLE-STRUCTURED-LOCATION;VALUE=URI;X-ADDRESS=Lodi Winegrape Commission 2545 West Turner Road Lodi CA 95242 United States;X-APPLE-RADIUS=500;X-TITLE=2545 West Turner Road:geo:-121.307667,38.1459652
END:VEVENT
BEGIN:VEVENT
DTSTART;TZID=America/Los_Angeles:20190422T120000
DTEND;TZID=America/Los_Angeles:20190422T140000
DTSTAMP:20260420T220335
CREATED:20180917T222450Z
LAST-MODIFIED:20190401T214318Z
UID:10000448-1555934400-1555941600@lodigrowers.com
SUMMARY:LODI RULES COMM. MEETING
DESCRIPTION:LODI WINEGRAPE COMMISSION\nLODI RULES COMMITTEE\nNOTICE AND AGENDA \nSent and posted on April 1st\, 2019 \nDate:    Monday\, April 22nd\, 2019\nTime:   12:00 PM\nPlace:   Lodi Winegrape Commission Conference Room\, 2545 W. Turner Rd.\, Lodi CA 95242 \nThe agenda for the meeting is as follows: \n\nCall to order\nRoll call and establishment of quorum\nConsideration of the February 25th\, 2019 meeting minutes\nPublic comment on items appearing on the agenda (2-minute limit per person)\nProgram updates:\n\nMarketing & Promotions – video\, materials\, website\, events\nWinery communications\nProtected Harvest and SureHarvest news\nPesticide Risk Model for 2020 certification year & beyond\n\n\nReview draft language of possible new LODI RULES standards\nFY2018-2019 Budget review\nBrief reports from other Lodi Winegrape Commission Committees\, focusing on LODI RULES connections:\n\nGrower Marketing\nLodi Wine Country\nResearch\, Education\, & Communications\n\n\nPublic comment on items not appearing on the agenda (2-minute limit per person)\nFuture agenda items\nSchedule next meetings\nAdjourn\n\nAction may be taken on any of the items listed above.  Questions regarding the meeting should be directed to Aaron Shinn (209-747-9595) or Stuart Spencer (209-367-4727). Persons with disabilities needing special accommodation should contact Stuart Spencer\, Program Manager\, stuart@lodiwine.com at least five days prior to the meeting. This notice and agenda is available on the internet in Upcoming Meetings and Events on www.lodigrowers.com.
URL:https://lodigrowers.com/event/lodi-rules-comm-meeting-14/
LOCATION:Lodi Winegrape Commission\, 2545 West Turner Road\, Lodi\, CA\, 95242\, United States
GEO:38.1459652;-121.307667
X-APPLE-STRUCTURED-LOCATION;VALUE=URI;X-ADDRESS=Lodi Winegrape Commission 2545 West Turner Road Lodi CA 95242 United States;X-APPLE-RADIUS=500;X-TITLE=2545 West Turner Road:geo:-121.307667,38.1459652
END:VEVENT
BEGIN:VEVENT
DTSTART;TZID=America/Los_Angeles:20190107T120000
DTEND;TZID=America/Los_Angeles:20190107T140000
DTSTAMP:20260420T220335
CREATED:20180917T222255Z
LAST-MODIFIED:20181227T234209Z
UID:10000447-1546862400-1546869600@lodigrowers.com
SUMMARY:LODI RULES COMM. MEETING
DESCRIPTION:LODI WINEGRAPE COMMISSION\nLODI RULES COMMITTEE\nNOTICE AND AGENDA \nSent and posted on December 26th\, 2018 \nDate:    Monday\, January 7th\, 2019\nTime:   12:00 PM\nPlace:   Lodi Winegrape Commission Conference Room\, 2545 W. Turner Rd.\, Lodi CA 95242 \nThe agenda for the meeting is as follows: \n\nCall to order\nRoll call and establishment of quorum\nConsideration of the November 19th\, 2018 meeting minutes\nPublic comment on items appearing on the agenda (2 minute limit per person)\nProgram updates:\n\n\nLODI RULES annual meeting\nMarketing & Promotions – video\, materials\, website\, events\nWinery communications\nProtected Harvest and SureHarvest news\nPesticide Risk Model for 2019 certification year & beyond\n\n\nReview draft language of possible new LODI RULES standards\nFY2018-2019 Budget review\nBrief reports from other Lodi Winegrape Commission Committees\, focusing on LODI RULES connections:\n\n\nGrower Marketing\nLodi Wine Country\nResearch\, Education\, & Communications\n\n\nPublic comment on items not appearing on the agenda (2 minute limit per person)\nFuture agenda items\nSchedule next meetings (including meeting with Tom Green of IPMI)\nAdjourn\n\nAction may be taken on any of the items listed above.  Questions regarding the meeting should be directed to Aaron Shinn (209-747-9595) or Stuart Spencer (209-367-4727). Persons with disabilities needing special accommodation should contact Stuart Spencer\, Program Manager\, stuart@lodiwine.com at least five days prior to the meeting. This notice and agenda is available on the internet in Upcoming Meetings and Events on www.lodigrowers.com.
URL:https://lodigrowers.com/event/lodi-rules-comm-meeting-12/
LOCATION:Lodi Winegrape Commission\, 2545 West Turner Road\, Lodi\, CA\, 95242\, United States
GEO:38.1459652;-121.307667
X-APPLE-STRUCTURED-LOCATION;VALUE=URI;X-ADDRESS=Lodi Winegrape Commission 2545 West Turner Road Lodi CA 95242 United States;X-APPLE-RADIUS=500;X-TITLE=2545 West Turner Road:geo:-121.307667,38.1459652
END:VEVENT
BEGIN:VEVENT
DTSTART;TZID=America/Los_Angeles:20181120T120000
DTEND;TZID=America/Los_Angeles:20181120T143000
DTSTAMP:20260420T220335
CREATED:20181003T154703Z
LAST-MODIFIED:20181003T154703Z
UID:10000459-1542715200-1542724200@lodigrowers.com
SUMMARY:REC COMM. MEETING
DESCRIPTION:LODI WINEGRAPE COMMISSION\nRESEARCH\, EDUCATION\, & COMMUNICATION COMMITTEE\nNOTICE AND AGENDA \nSent and posted October 3rd\, 2018 \nDate:     Tuesday\, November 20th\, 2018\nTime:    12pm\nPlace:   Lodi Winegrape Commission Conference Room\, 2545 W. Turner Road\, Lodi\, CA 95242 \nThe agenda for the meeting is as follows: \n\nCall to order\nRoll call and establishment of quorum\nConsideration of the September 25th\, 2018 minutes\nPublic comment on items appearing on the agenda (2 min limit per person)\nGrower education programs:\n\nIdeas for future outreach meetings\nReview of recent meetings\n\n\n Farm Advisor position\n\nUC Extension update\n\n\nIntroduction(s) to new viticulture researchers\nGrower communications\nWinegrape research in Crush District 11:\n\nPotential district-wide projects\nResearch projects and focus group updates\nCAWG Mechanization Study potential partnership\n\naction item\n\n\n\n\nWeather Network services\nDemonstration Vineyard\nBrief reports from other Lodi Winegrape Commission Committees\nPublic comment on items not appearing on the agenda (2 min limit per person)\nFY2018-19 Budget review to date\nItems for future agendas\nConfirm future meeting dates for FY2018-2019\nAdjourn\n\nAction may be taken on any of the above items.  Questions regarding the meeting can be directed to Research and Education Committee Chairman Larry Whitted (327-6472) or Stuart Spencer (367-4727). Persons with disabilities needing special accommodation should contact Stuart Spencer at least five days prior to the meeting. This notice and agenda is available on the internet in Upcoming Meetings and Events on www.lodigrowers.com.
URL:https://lodigrowers.com/event/rec-comm-meeting-11/
LOCATION:Lodi Winegrape Commission\, 2545 West Turner Road\, Lodi\, CA\, 95242\, United States
GEO:38.1459652;-121.307667
X-APPLE-STRUCTURED-LOCATION;VALUE=URI;X-ADDRESS=Lodi Winegrape Commission 2545 West Turner Road Lodi CA 95242 United States;X-APPLE-RADIUS=500;X-TITLE=2545 West Turner Road:geo:-121.307667,38.1459652
END:VEVENT
BEGIN:VEVENT
DTSTART;TZID=America/Los_Angeles:20181119T120000
DTEND;TZID=America/Los_Angeles:20181119T140000
DTSTAMP:20260420T220335
CREATED:20180917T222146Z
LAST-MODIFIED:20181101T222149Z
UID:10000446-1542628800-1542636000@lodigrowers.com
SUMMARY:LODI RULES COMM. MEETING
DESCRIPTION:Date:    Monday\, November 19th\, 2018\nTime:   12:00 PM\nPlace:   Lodi Winegrape Commission Conference Room\, 2545 W. Turner Rd.\, Lodi CA 95242 \nThe agenda for the meeting is as follows: \n\nCall to order\nRoll call and establishment of quorum\nConsideration of the October 22nd\, 2018 meeting minutes\nPublic comment on items appearing on the agenda (2 minute limit per person)\nProgram updates:\n\nLODI RULES 2018 certification year & audit feedback\nMarketing & Promotions – video\, materials\, website\, events\nWinery communications\nProtected Harvest and SureHarvest news\nPesticide Risk Model for 2019 certification year & beyond\n\n\n\n\nFY2018-2019 Budget review\nReview draft language of possible new LODI RULES standards\nBrief reports from other Lodi Winegrape Commission Committees\, focusing on LODI RULES connections:\n\nGrower Marketing\nLodi Wine Country\nResearch\, Education\, & Communications\n\n\n\n\nPublic comment on items not appearing on the agenda (2 minute limit per person)\nFuture agenda items\nSchedule next meetings\nAdjourn\n\nAction may be taken on any of the items listed above.  Questions regarding the meeting should be directed to Aaron Shinn (209-747-9595) or Stuart Spencer (209-367-4727). Persons with disabilities needing special accommodation should contact Stuart Spencer\, Program Manager\, stuart@lodiwine.com at least five days prior to the meeting. This notice and agenda is available on the internet in Upcoming Meetings and Events on www.lodigrowers.com.
URL:https://lodigrowers.com/event/lodi-rules-comm-meeting-11/
LOCATION:Lodi Winegrape Commission\, 2545 West Turner Road\, Lodi\, CA\, 95242\, United States
GEO:38.1459652;-121.307667
X-APPLE-STRUCTURED-LOCATION;VALUE=URI;X-ADDRESS=Lodi Winegrape Commission 2545 West Turner Road Lodi CA 95242 United States;X-APPLE-RADIUS=500;X-TITLE=2545 West Turner Road:geo:-121.307667,38.1459652
END:VEVENT
BEGIN:VEVENT
DTSTART;TZID=America/Los_Angeles:20181022T120000
DTEND;TZID=America/Los_Angeles:20181022T140000
DTSTAMP:20260420T220335
CREATED:20180917T222048Z
LAST-MODIFIED:20180925T222411Z
UID:10000445-1540209600-1540216800@lodigrowers.com
SUMMARY:LODI RULES COMM. MEETING
DESCRIPTION:LODI WINEGRAPE COMMISSION\nLODI RULES COMMITTEE\nNOTICE AND AGENDA \nSent and posted on September 24th\, 2018 \nDate:    Monday\, October 22nd\, 2018\nTime:   12:00 PM\nPlace:   Lodi Winegrape Commission Conference Room\, 2545 W. Turner Rd.\, Lodi CA 95242 \nThe agenda for the meeting is as follows: \n\nCall to order\nRoll call and establishment of quorum\nConsideration of the September 17th\, 2018 meeting minutes\nPublic comment on items appearing on the agenda (2 minute limit per person)\nProgram updates:\n\nPesticide Risk Model for 2019 certification year\n\n\nPublic comment on items not appearing on the agenda (2 minute limit per person)\nFuture agenda items\nSchedule next meetings\nAdjourn\n\nAction may be taken on any of the items listed above.  Questions regarding the meeting should be directed to Aaron Shinn (209-747-9595) or Stuart Spencer (209-367-4727). Persons with disabilities needing special accommodation should contact Stuart Spencer\, Program Manager\, stuart@lodiwine.com at least five days prior to the meeting. This notice and agenda is available on the internet in Upcoming Meetings and Events on www.lodigrowers.com.
URL:https://lodigrowers.com/event/lodi-rules-comm-meeting-10/
LOCATION:Lodi Winegrape Commission\, 2545 West Turner Road\, Lodi\, CA\, 95242\, United States
GEO:38.1459652;-121.307667
X-APPLE-STRUCTURED-LOCATION;VALUE=URI;X-ADDRESS=Lodi Winegrape Commission 2545 West Turner Road Lodi CA 95242 United States;X-APPLE-RADIUS=500;X-TITLE=2545 West Turner Road:geo:-121.307667,38.1459652
END:VEVENT
BEGIN:VEVENT
DTSTART;TZID=America/Los_Angeles:20181018T120000
DTEND;TZID=America/Los_Angeles:20181018T133000
DTSTAMP:20260420T220335
CREATED:20181008T160018Z
LAST-MODIFIED:20181008T160140Z
UID:10000461-1539864000-1539869400@lodigrowers.com
SUMMARY:BUDGET & FINANCE COMM. MEETING
DESCRIPTION:Budget & Finance Committees\nMeeting Notice and Agenda \nNotice Sent & Posted October 5\, 2018 \nThe Executive Committee will meet on: \nDate:                     Thursday\, October 18\, 2018\nTime:                    12:00 pm\nPlace:                   Lodi Winegrape Commission Conference Room \n                              2545 West Turner Road\, Lodi\, CA 95242 \nThe agenda for the meeting is as follows: \n\nCall to order\nRoll call and establishment of quorum\nPublic Comment on Items Appearing on Agenda (two minutes maximum per person)\nReview of Draft Annual Audit Reports\n2018/19 Financial Report\n2018/2019 Budget\nAgenda Items for Future Meetings\nSet Date for Next Meeting\nPublic Comment on any items not listed on the Agenda (two minutes maximum per person)\nAdjourn\n\nAction may be taken on any of the items listed above.  Questions regarding the meeting should be directed to Ben Kolber (747-8996) or Stuart Spencer (367-4727). Persons with disabilities needing special accommodation should contact Stuart Spencer\, Program Manager\, stuart@lodiwine.com  at least five days prior to the meeting. This notice and agenda is available on the internet at www.lodigrowers.com.
URL:https://lodigrowers.com/event/budget-finance-comm-meeting/
LOCATION:Lodi Winegrape Commission\, 2545 West Turner Road\, Lodi\, CA\, 95242\, United States
GEO:38.1459652;-121.307667
X-APPLE-STRUCTURED-LOCATION;VALUE=URI;X-ADDRESS=Lodi Winegrape Commission 2545 West Turner Road Lodi CA 95242 United States;X-APPLE-RADIUS=500;X-TITLE=2545 West Turner Road:geo:-121.307667,38.1459652
END:VEVENT
BEGIN:VEVENT
DTSTART;TZID=America/Los_Angeles:20180925T120000
DTEND;TZID=America/Los_Angeles:20180925T140000
DTSTAMP:20260420T220335
CREATED:20180905T191536Z
LAST-MODIFIED:20180905T191536Z
UID:10000440-1537876800-1537884000@lodigrowers.com
SUMMARY:REC COMM. MEETING
DESCRIPTION:LODI WINEGRAPE COMMISSION\nRESEARCH\, EDUCATION\, & COMMUNICATION COMMITTEE\nNOTICE AND AGENDA \nSent and posted September 5th\, 2018 \nDate:     Tuesday\, September 25th\, 2018\nTime:    12pm\nPlace:    Lodi Winegrape Commission Conference Room\, 2545 W. Turner Road\, Lodi\, CA 95242 \nThe agenda for the meeting is as follows: \n\nCall to order\nRoll call and establishment of quorum\nConsideration of the August 7th\, 2018 minutes\nPublic comment on items appearing on the agenda (2 min limit per person)\nGrower education programs:\n\nIdeas for future outreach meetings\nReview of recent meetings\n\n\n Grower communications\n Winegrape research in Crush District 11:\n\nPotential district-wide projects\nFunding opportunities\nResearch project and focus group updates\nWater Recharge Project status update\n\n\n Farm Advisor position\n\nUC Extension update\n\n\n Weather Network Services\nDemonstration Vineyard\nBrief reports from other Lodi Winegrape Commission Committees\nPublic comment on items not appearing on the agenda (2 min limit per person)\nFY2018-19 Budget review to date\nItems for future agendas\nConfirm future meeting dates for FY2018-2019\nAdjourn\n\nAction may be taken on any of the above items.  Questions regarding the meeting can be directed to Research and Education Committee Chairman Larry Whitted (327-6472) or Stuart Spencer (367-4727). Persons with disabilities needing special accommodation should contact Stuart Spencer at least five days prior to the meeting. This notice and agenda is available on the internet in Upcoming Meetings and Events on www.lodigrowers.com.
URL:https://lodigrowers.com/event/rec-comm-meeting-10/
LOCATION:Lodi Winegrape Commission\, 2545 West Turner Road\, Lodi\, CA\, 95242\, United States
GEO:38.1459652;-121.307667
X-APPLE-STRUCTURED-LOCATION;VALUE=URI;X-ADDRESS=Lodi Winegrape Commission 2545 West Turner Road Lodi CA 95242 United States;X-APPLE-RADIUS=500;X-TITLE=2545 West Turner Road:geo:-121.307667,38.1459652
END:VEVENT
BEGIN:VEVENT
DTSTART;TZID=America/Los_Angeles:20180920T140000
DTEND;TZID=America/Los_Angeles:20180920T160000
DTSTAMP:20260420T220335
CREATED:20180910T220049Z
LAST-MODIFIED:20180910T220421Z
UID:10000443-1537452000-1537459200@lodigrowers.com
SUMMARY:LWC EXECUTIVE COMM. MEETING
DESCRIPTION:Executive Committee\nMeeting Notice and Agenda \nNotice Sent & Posted September 10\, 2018 \nThe Executive Committee will meet on: \nDate:               Thursday\, September 20\, 2018\nTime:               2:00 pm\nPlace:              Lodi Winegrape Commission Conference Room \n                         2545 West Turner Road\, Lodi\, CA 95242 \nThe agenda for the meeting is as follows: \n\nCall to order\nRoll call and establishment of quorum\nConsideration of Minutes from Executive\, Budget & Finance Committee Meeting\, 6-1-18\nPublic Comment on Items Appearing on Agenda (two minutes maximum per person)\nLodi Winegrape Commission Strategic Planning\nOrganizational Restructuring\nLWC Bylaws – Draft Changes\nAgenda Items for Future Meetings\nSet Date for Next Meeting\nPublic Comment on any items not listed on the Agenda (two minutes maximum per person)\nAdjourn\n\nAction may be taken on any of the items listed above.  Questions regarding the meeting should be directed to Bruce Fry (993-8479) or Stuart Spencer (367-4727). Persons with disabilities needing special accommodation should contact Stuart Spencer\, Program Manager\, stuart@lodiwine.com  at least five days prior to the meeting. This notice and agenda is available on the internet at www.lodigrowers.com.
URL:https://lodigrowers.com/event/lwc-executive-comm-meeting/
LOCATION:Lodi Winegrape Commission\, 2545 West Turner Road\, Lodi\, CA\, 95242\, United States
GEO:38.1459652;-121.307667
X-APPLE-STRUCTURED-LOCATION;VALUE=URI;X-ADDRESS=Lodi Winegrape Commission 2545 West Turner Road Lodi CA 95242 United States;X-APPLE-RADIUS=500;X-TITLE=2545 West Turner Road:geo:-121.307667,38.1459652
END:VEVENT
BEGIN:VEVENT
DTSTART;TZID=America/Los_Angeles:20180910T090000
DTEND;TZID=America/Los_Angeles:20180910T103000
DTSTAMP:20260420T220335
CREATED:20180831T214926Z
LAST-MODIFIED:20180831T214926Z
UID:10000439-1536570000-1536575400@lodigrowers.com
SUMMARY:LODI WINE COUNTRY COMM. MEETING
DESCRIPTION:Lodi Wine Country Committee\nMeeting Notice and Agenda\nSent & Posted August 31\, 2018 \nThe Lodi Winegrape Commission’s Lodi Wine Country Committee will meet: \nDate:   Monday\, September 10\, 2018\nTime:   9:00 AM\nPlace:  LWC Conference Room\, 2545 West Turner Road\, Lodi\, CA 95242 \nThe agenda for this meeting is as follows: \n\nCall to order\nRoll call and establishment of quorum\nReview of August 6\, 2018 minutes\nPublic Comment on Items Appearing on the Agenda\n2018 Scheduled Winery Road Shows\n\nHeavenly Village Wine Walk (August 23) – Review\nNashville Food & Wine Festival (Sept 14-15)\nSan Diego Food & Wine Festival/Somm Con (Nov 16-17)\nFort Worth Food & Wine Festival (April 5 & 6\, 2019)\nAspen 2019\n\n\nWine & Chocolate Weekend 2019\nNational Zinfandel Day – November 14\n2018-19 Year-to-Date Budget Review\nReport from other Committees\nPublic Comment on Items Not Appearing on the Agenda\nAgenda Items for Future Meetings\nSet Next Meeting Date\nAdjourn\n\nAll agenda items are subject to discussion and possible action.  For more information\, or to make a request regarding a disability-related accommodation for the meeting\, please contact Stuart Spencer (209-367-4727) or Steve Felten (209-810-5258). This notice and agenda is available on the internet at www.lodiwine.com in Grower News Meetings and Events.
URL:https://lodigrowers.com/event/lodi-wine-country-comm-meeting-2/
LOCATION:Lodi Winegrape Commission\, 2545 West Turner Road\, Lodi\, CA\, 95242\, United States
GEO:38.1459652;-121.307667
X-APPLE-STRUCTURED-LOCATION;VALUE=URI;X-ADDRESS=Lodi Winegrape Commission 2545 West Turner Road Lodi CA 95242 United States;X-APPLE-RADIUS=500;X-TITLE=2545 West Turner Road:geo:-121.307667,38.1459652
END:VEVENT
BEGIN:VEVENT
DTSTART;TZID=America/Los_Angeles:20160912T090000
DTEND;TZID=America/Los_Angeles:20160912T110000
DTSTAMP:20260420T220335
CREATED:20160902T160955Z
LAST-MODIFIED:20160902T160955Z
UID:10000289-1473670800-1473678000@lodigrowers.com
SUMMARY:Lodi Wine Country Committee Meeting
DESCRIPTION:Lodi Wine Country Committee \nMeeting Notice and Agenda \nPosted and sent 8/29/2016 \n  \nThe Lodi Winegrape Commission’s Lodi Wine Country Committee will meet: \nDate:   Monday\, September 12\, 2016 \nTime:   9:00 AM \nPlace:  Lodi Winegrape Commission Conference Room \nThe agenda for this meeting is as follows: \n\nCall to order\n\n\nRoll call and establishment of quorum\n\n\nApproval of July 11\, 2016 minutes\n\n\nEvents\n\n\nGiants Wine Fest  (July 29\, 2016)\nCal Bears (October 1\, 2016)\n\n\nCalendar of Events (Road Shows)\n\n\nCalifornia Wine Festival – Santa Barbara (July 14-16\, 2016)\nDirt 2 Dish (September 18\, 2016)\nNorthwest Food & Wine Festival (November 12\, 2016)\nBoston Wine Expo (February 18-19\, 2017)\nSeattle Food & Wine Experience (February 21\, 2016)\nVinDiego Wine & Food Festival (April 8\, 2017)\n\n\nWine Blogger Conference (August 10–14\, 2016)\n\n\nOther Business\n\nLA Event – (February 15\, 2016)\n\n\n\n\nFY 2015/16 Budget Review & FY 2016/2017 Budget Review\n\n\nNext Meeting Date\n\n\nAdjourn\n\nAll agenda items are subject to discussion and possible action.  For more information\, or to make a request regarding a disability-related accommodation for the meeting\, please contact Stuart Spencer \n(209-367-4727) or Steve Felten (209-810-5258). This notice and agenda is available on the internet at www.lodiwine.com in Grower News Meetings and Events.
URL:https://lodigrowers.com/event/lodi-wine-country-committee-meeting/
LOCATION:Lodi Winegrape Commission\, 2545 West Turner Road\, Lodi\, CA\, 95242\, United States
GEO:38.1459652;-121.307667
X-APPLE-STRUCTURED-LOCATION;VALUE=URI;X-ADDRESS=Lodi Winegrape Commission 2545 West Turner Road Lodi CA 95242 United States;X-APPLE-RADIUS=500;X-TITLE=2545 West Turner Road:geo:-121.307667,38.1459652
END:VEVENT
BEGIN:VEVENT
DTSTART;TZID=UTC:20160822T120000
DTEND;TZID=UTC:20160822T140000
DTSTAMP:20260420T220335
CREATED:20160811T033006Z
LAST-MODIFIED:20160811T033006Z
UID:10000283-1471867200-1471874400@lodigrowers.com
SUMMARY:Lodi Rules Committee Mtg
DESCRIPTION:LODI WINEGRAPE COMMISSION\nLODI RULES COMMITTEE\nNOTICE AND AGENDA\nSent and posted on August 10\, 2016 \nDate:   Monday\, August 22\, 2016\nTime:  12:00 PM\nPlace:  Lodi Winegrape Commission Conference Room\n	2545 W. Turner Rd.\, Lodi CA \nThe agenda for the meeting is as follows: \n1.	Call to order\n2.	Roll call and establishment of quorum\n3.	Review and approve July 11\, 2016 meeting minutes \n4.	Public comment on items appearing on the agenda \n5.	Update on Program\n•	CSWA  \n6.	Marketing of the Lodi Rules Program\n•	Golan Heights\n•	Table Grapes \n7.	Budget review \n8.	Other business \n9.	Public comment on items not appearing on the agenda \n10.	Future agenda items \n11.	Set next meeting date \n12.	Adjourn\nAction may be taken on any of the items listed above.  Questions regarding the meeting should be directed to Aaron Shinn (209-747-9595) or Stuart Spencer (209-367-4727). Persons with disabilities needing special accommodation should contact Stuart Spencer\, Program Manager\, stuart@lodiwine.com at least five days prior to the meeting. This notice and agenda is available on the internet in Upcoming Meetings and Events on www.lodigrowers.com.
URL:https://lodigrowers.com/event/lodi-rules-committee-mtg-2/
LOCATION:Lodi Winegrape Commission\, 2545 West Turner Road\, Lodi\, CA\, 95242\, United States
GEO:38.1459652;-121.307667
X-APPLE-STRUCTURED-LOCATION;VALUE=URI;X-ADDRESS=Lodi Winegrape Commission 2545 West Turner Road Lodi CA 95242 United States;X-APPLE-RADIUS=500;X-TITLE=2545 West Turner Road:geo:-121.307667,38.1459652
END:VEVENT
END:VCALENDAR