BEGIN:VCALENDAR
VERSION:2.0
PRODID:-//Lodi Growers - ECPv6.15.20//NONSGML v1.0//EN
CALSCALE:GREGORIAN
METHOD:PUBLISH
X-ORIGINAL-URL:https://lodigrowers.com
X-WR-CALDESC:Events for Lodi Growers
REFRESH-INTERVAL;VALUE=DURATION:PT1H
X-Robots-Tag:noindex
X-PUBLISHED-TTL:PT1H
BEGIN:VTIMEZONE
TZID:America/Los_Angeles
BEGIN:DAYLIGHT
TZOFFSETFROM:-0800
TZOFFSETTO:-0700
TZNAME:PDT
DTSTART:20150308T100000
END:DAYLIGHT
BEGIN:STANDARD
TZOFFSETFROM:-0700
TZOFFSETTO:-0800
TZNAME:PST
DTSTART:20151101T090000
END:STANDARD
BEGIN:DAYLIGHT
TZOFFSETFROM:-0800
TZOFFSETTO:-0700
TZNAME:PDT
DTSTART:20160313T100000
END:DAYLIGHT
BEGIN:STANDARD
TZOFFSETFROM:-0700
TZOFFSETTO:-0800
TZNAME:PST
DTSTART:20161106T090000
END:STANDARD
BEGIN:DAYLIGHT
TZOFFSETFROM:-0800
TZOFFSETTO:-0700
TZNAME:PDT
DTSTART:20170312T100000
END:DAYLIGHT
BEGIN:STANDARD
TZOFFSETFROM:-0700
TZOFFSETTO:-0800
TZNAME:PST
DTSTART:20171105T090000
END:STANDARD
END:VTIMEZONE
BEGIN:VTIMEZONE
TZID:UTC
BEGIN:STANDARD
TZOFFSETFROM:+0000
TZOFFSETTO:+0000
TZNAME:UTC
DTSTART:20150101T000000
END:STANDARD
END:VTIMEZONE
BEGIN:VEVENT
DTSTART;TZID=America/Los_Angeles:20160912T090000
DTEND;TZID=America/Los_Angeles:20160912T110000
DTSTAMP:20260420T234429
CREATED:20160902T160955Z
LAST-MODIFIED:20160902T160955Z
UID:10000289-1473670800-1473678000@lodigrowers.com
SUMMARY:Lodi Wine Country Committee Meeting
DESCRIPTION:Lodi Wine Country Committee \nMeeting Notice and Agenda \nPosted and sent 8/29/2016 \n  \nThe Lodi Winegrape Commission’s Lodi Wine Country Committee will meet: \nDate:   Monday\, September 12\, 2016 \nTime:   9:00 AM \nPlace:  Lodi Winegrape Commission Conference Room \nThe agenda for this meeting is as follows: \n\nCall to order\n\n\nRoll call and establishment of quorum\n\n\nApproval of July 11\, 2016 minutes\n\n\nEvents\n\n\nGiants Wine Fest  (July 29\, 2016)\nCal Bears (October 1\, 2016)\n\n\nCalendar of Events (Road Shows)\n\n\nCalifornia Wine Festival – Santa Barbara (July 14-16\, 2016)\nDirt 2 Dish (September 18\, 2016)\nNorthwest Food & Wine Festival (November 12\, 2016)\nBoston Wine Expo (February 18-19\, 2017)\nSeattle Food & Wine Experience (February 21\, 2016)\nVinDiego Wine & Food Festival (April 8\, 2017)\n\n\nWine Blogger Conference (August 10–14\, 2016)\n\n\nOther Business\n\nLA Event – (February 15\, 2016)\n\n\n\n\nFY 2015/16 Budget Review & FY 2016/2017 Budget Review\n\n\nNext Meeting Date\n\n\nAdjourn\n\nAll agenda items are subject to discussion and possible action.  For more information\, or to make a request regarding a disability-related accommodation for the meeting\, please contact Stuart Spencer \n(209-367-4727) or Steve Felten (209-810-5258). This notice and agenda is available on the internet at www.lodiwine.com in Grower News Meetings and Events.
URL:https://lodigrowers.com/event/lodi-wine-country-committee-meeting/
LOCATION:Lodi Winegrape Commission\, 2545 West Turner Road\, Lodi\, CA\, 95242\, United States
GEO:38.1459652;-121.307667
X-APPLE-STRUCTURED-LOCATION;VALUE=URI;X-ADDRESS=Lodi Winegrape Commission 2545 West Turner Road Lodi CA 95242 United States;X-APPLE-RADIUS=500;X-TITLE=2545 West Turner Road:geo:-121.307667,38.1459652
END:VEVENT
BEGIN:VEVENT
DTSTART;TZID=UTC:20160822T120000
DTEND;TZID=UTC:20160822T140000
DTSTAMP:20260420T234429
CREATED:20160811T033006Z
LAST-MODIFIED:20160811T033006Z
UID:10000283-1471867200-1471874400@lodigrowers.com
SUMMARY:Lodi Rules Committee Mtg
DESCRIPTION:LODI WINEGRAPE COMMISSION\nLODI RULES COMMITTEE\nNOTICE AND AGENDA\nSent and posted on August 10\, 2016 \nDate:   Monday\, August 22\, 2016\nTime:  12:00 PM\nPlace:  Lodi Winegrape Commission Conference Room\n	2545 W. Turner Rd.\, Lodi CA \nThe agenda for the meeting is as follows: \n1.	Call to order\n2.	Roll call and establishment of quorum\n3.	Review and approve July 11\, 2016 meeting minutes \n4.	Public comment on items appearing on the agenda \n5.	Update on Program\n•	CSWA  \n6.	Marketing of the Lodi Rules Program\n•	Golan Heights\n•	Table Grapes \n7.	Budget review \n8.	Other business \n9.	Public comment on items not appearing on the agenda \n10.	Future agenda items \n11.	Set next meeting date \n12.	Adjourn\nAction may be taken on any of the items listed above.  Questions regarding the meeting should be directed to Aaron Shinn (209-747-9595) or Stuart Spencer (209-367-4727). Persons with disabilities needing special accommodation should contact Stuart Spencer\, Program Manager\, stuart@lodiwine.com at least five days prior to the meeting. This notice and agenda is available on the internet in Upcoming Meetings and Events on www.lodigrowers.com.
URL:https://lodigrowers.com/event/lodi-rules-committee-mtg-2/
LOCATION:Lodi Winegrape Commission\, 2545 West Turner Road\, Lodi\, CA\, 95242\, United States
GEO:38.1459652;-121.307667
X-APPLE-STRUCTURED-LOCATION;VALUE=URI;X-ADDRESS=Lodi Winegrape Commission 2545 West Turner Road Lodi CA 95242 United States;X-APPLE-RADIUS=500;X-TITLE=2545 West Turner Road:geo:-121.307667,38.1459652
END:VEVENT
END:VCALENDAR