BEGIN:VCALENDAR
VERSION:2.0
PRODID:-//Lodi Growers - ECPv6.15.20//NONSGML v1.0//EN
CALSCALE:GREGORIAN
METHOD:PUBLISH
X-WR-CALNAME:Lodi Growers
X-ORIGINAL-URL:https://lodigrowers.com
X-WR-CALDESC:Events for Lodi Growers
REFRESH-INTERVAL;VALUE=DURATION:PT1H
X-Robots-Tag:noindex
X-PUBLISHED-TTL:PT1H
BEGIN:VTIMEZONE
TZID:America/Los_Angeles
BEGIN:DAYLIGHT
TZOFFSETFROM:-0800
TZOFFSETTO:-0700
TZNAME:PDT
DTSTART:20230312T100000
END:DAYLIGHT
BEGIN:STANDARD
TZOFFSETFROM:-0700
TZOFFSETTO:-0800
TZNAME:PST
DTSTART:20231105T090000
END:STANDARD
BEGIN:DAYLIGHT
TZOFFSETFROM:-0800
TZOFFSETTO:-0700
TZNAME:PDT
DTSTART:20240310T100000
END:DAYLIGHT
BEGIN:STANDARD
TZOFFSETFROM:-0700
TZOFFSETTO:-0800
TZNAME:PST
DTSTART:20241103T090000
END:STANDARD
BEGIN:DAYLIGHT
TZOFFSETFROM:-0800
TZOFFSETTO:-0700
TZNAME:PDT
DTSTART:20250309T100000
END:DAYLIGHT
BEGIN:STANDARD
TZOFFSETFROM:-0700
TZOFFSETTO:-0800
TZNAME:PST
DTSTART:20251102T090000
END:STANDARD
END:VTIMEZONE
BEGIN:VEVENT
DTSTART;TZID=America/Los_Angeles:20240425T173000
DTEND;TZID=America/Los_Angeles:20240425T200000
DTSTAMP:20260420T094716
CREATED:20240404T171850Z
LAST-MODIFIED:20240404T171850Z
UID:10001512-1714066200-1714075200@lodigrowers.com
SUMMARY:FRESNO STATE: NORTHERN SJ VALLEY ALUMNI & FRIENDS DINNER
DESCRIPTION:  \nDate:  Thursday\, April 25\, 2024 \nTime:  5:30 – 8:00pm \nVenue: Mettler Family Vineyards\, 7889 E. Harney Ln\, Lodi\, CA 95240 \nCost:  $60 \nDescription:  Attend the third annual Fresno State Ag One – Northern San Joaquin Valley Alumni and Friends dinner\, hosted by Mettler Family Vineyards in Lodi. Proceeds from this event will help support students and programs in the Jordan College of Agricultural Sciences and Technology at California State University\, Fresno. This gathering is a wonderful opportunity to enjoy the company of Fresno State alumni and friends in the region. Plus\, connect with Dean Rolston St. Hilaire\, as well as other Jordan College faculty and staff. \nRegistration (required):  To register\, please click HERE.
URL:https://lodigrowers.com/event/fresno-state-northern-sj-valley-alumni-friends-dinner/
LOCATION:Mettler Family Vineyards\, 7889 E. Harney Ln\, Lodi\, CA\, 95240\, United States
ATTACH;FMTTYPE=image/png:https://lodigrowers.com/wp-content/uploads/2024/04/24nsjv.png
GEO:38.102597;-121.220019
X-APPLE-STRUCTURED-LOCATION;VALUE=URI;X-ADDRESS=Mettler Family Vineyards 7889 E. Harney Ln Lodi CA 95240 United States;X-APPLE-RADIUS=500;X-TITLE=7889 E. Harney Ln:geo:-121.220019,38.102597
END:VEVENT
END:VCALENDAR