BEGIN:VCALENDAR
VERSION:2.0
PRODID:-//Lodi Growers - ECPv6.15.20//NONSGML v1.0//EN
CALSCALE:GREGORIAN
METHOD:PUBLISH
X-WR-CALNAME:Lodi Growers
X-ORIGINAL-URL:https://lodigrowers.com
X-WR-CALDESC:Events for Lodi Growers
REFRESH-INTERVAL;VALUE=DURATION:PT1H
X-Robots-Tag:noindex
X-PUBLISHED-TTL:PT1H
BEGIN:VTIMEZONE
TZID:America/Los_Angeles
BEGIN:DAYLIGHT
TZOFFSETFROM:-0800
TZOFFSETTO:-0700
TZNAME:PDT
DTSTART:20210314T100000
END:DAYLIGHT
BEGIN:STANDARD
TZOFFSETFROM:-0700
TZOFFSETTO:-0800
TZNAME:PST
DTSTART:20211107T090000
END:STANDARD
BEGIN:DAYLIGHT
TZOFFSETFROM:-0800
TZOFFSETTO:-0700
TZNAME:PDT
DTSTART:20220313T100000
END:DAYLIGHT
BEGIN:STANDARD
TZOFFSETFROM:-0700
TZOFFSETTO:-0800
TZNAME:PST
DTSTART:20221106T090000
END:STANDARD
BEGIN:DAYLIGHT
TZOFFSETFROM:-0800
TZOFFSETTO:-0700
TZNAME:PDT
DTSTART:20230312T100000
END:DAYLIGHT
BEGIN:STANDARD
TZOFFSETFROM:-0700
TZOFFSETTO:-0800
TZNAME:PST
DTSTART:20231105T090000
END:STANDARD
BEGIN:DAYLIGHT
TZOFFSETFROM:-0800
TZOFFSETTO:-0700
TZNAME:PDT
DTSTART:20240310T100000
END:DAYLIGHT
BEGIN:STANDARD
TZOFFSETFROM:-0700
TZOFFSETTO:-0800
TZNAME:PST
DTSTART:20241103T090000
END:STANDARD
BEGIN:DAYLIGHT
TZOFFSETFROM:-0800
TZOFFSETTO:-0700
TZNAME:PDT
DTSTART:20250309T100000
END:DAYLIGHT
BEGIN:STANDARD
TZOFFSETFROM:-0700
TZOFFSETTO:-0800
TZNAME:PST
DTSTART:20251102T090000
END:STANDARD
BEGIN:DAYLIGHT
TZOFFSETFROM:-0800
TZOFFSETTO:-0700
TZNAME:PDT
DTSTART:20260308T100000
END:DAYLIGHT
BEGIN:STANDARD
TZOFFSETFROM:-0700
TZOFFSETTO:-0800
TZNAME:PST
DTSTART:20261101T090000
END:STANDARD
END:VTIMEZONE
BEGIN:VEVENT
DTSTART;TZID=America/Los_Angeles:20251212T100000
DTEND;TZID=America/Los_Angeles:20251212T110000
DTSTAMP:20260421T041933
CREATED:20251216T233615Z
LAST-MODIFIED:20251216T233615Z
UID:10001704-1765533600-1765537200@lodigrowers.com
SUMMARY:NASA DEVELOP: LODI AGRICULTURE
DESCRIPTION:NASA DEVELOP: LODI AGRICULTURE.\nDate:  Friday\, December 12\, 2025 \nTime:  10:00 – 11:00am \nVenue:  Online https://tinyurl.com/LodiAgg \nCost:  FREE\, all are welcome \nSpeakers:  Audrey Chin\, Derek Gonzalez\, Noah Larkin\, Monica Napoles \nDescription: The Lodi Agriculture NASA DEVELOP team will present their project: Leveraging NASA Earth Observations to Detect Vine Stress and Potential Viral Presence in Vineyards to Inform Management Decisions. They will give an overview of the methods they developed\, their findings\, and how Earth observations can provide practical insights for vegetation monitoring. \nContact:  No pre-registration needed; link above takes you directly into the meeting. For questions\, contact Kathleen Miller at kathleenrose.miller@nasa.gov.
URL:https://lodigrowers.com/event/nasa-develop-lodi-agriculture/
LOCATION:Online
END:VEVENT
BEGIN:VEVENT
DTSTART;TZID=America/Los_Angeles:20241105T150000
DTEND;TZID=America/Los_Angeles:20241105T163000
DTSTAMP:20260421T041933
CREATED:20241023T002855Z
LAST-MODIFIED:20241023T002855Z
UID:10001547-1730818800-1730824200@lodigrowers.com
SUMMARY:VINEYARD REMOVAL IN THE SAN JOAQUIN VALLEY
DESCRIPTION:Webinar: Vineyard Removal in the San Joaquin Valley\nHosted by California Association of Winegrape Growers\, Lodi District Grape Growers Association\, Lodi Winegrape Commission\, and Allied Grape Growers \nRegistration Link: https://us02web.zoom.us/webinar/register/WN_n0nQ0472QdawSSkC-F-nqA#/registration. \nDraft Webinar Agenda\nTuesday\, November 5\, 2024\n3:00pm to 4:30pm \nOpening Remarks California Association of Winegrape Growers \nConsiderations / Best Practices / Planning Ahead Stephanie Bolton\, PhD\, Lodi Winegrape Commission  \n\nFinancial Incentive Programs\nDisease Testing\nFuture use of the Land\nRemoval Process\n\nUpdate on Ag Burn Rules San Joaquin Valley Air Pollution Control District  \n\nVery brief discussion of how we got here. / History of ag burn law.\nThe 2025 Rules – Is burning still an option? If so\, how to get approval.\nAlternatives to Open Ag Burn\nGrants Available and How to Apply for Grants\n\nDiscussion of Curtain Burners \n\nVineyard Removal\nTimeline and Availability of Curtain Burners\nEstimated Costs\n\nDiscussion of Tree Assistance Program USDA\, Farm Service Agency  \n\nEligibility\nDocumentation\nHow to Apply\n\n Q & A and Closing Remarks California Association of Winegrape Growers
URL:https://lodigrowers.com/event/vineyard-removal-in-the-san-joaquin-valley/
LOCATION:Online
END:VEVENT
BEGIN:VEVENT
DTSTART;TZID=America/Los_Angeles:20230321T130000
DTEND;TZID=America/Los_Angeles:20230321T160000
DTSTAMP:20260421T041933
CREATED:20230306T235359Z
LAST-MODIFIED:20230613T203702Z
UID:10000865-1679403600-1679414400@lodigrowers.com
SUMMARY:LODI RULES SUSTAINABLE VISION WORKSHOP
DESCRIPTION:  \nDate: Tuesday\, March 21\, 2023 \nTime: 1:00pm – 4:00pm (PT) \nVenue: Online via GoToMeeting\nPlease join this interactive meeting from your computer with a video and headset (headphones plus a microphone).\nmeet.goto.com/LodiRules/sustainability \nDescription: This workshop satisfies part of the requirement for LR Standard 1.1. Once you attend one vision workshop\, it counts for your lifetime. All growers\, wineries\, and LODI RULES community members are welcome to attend. \nFor more information: Contact the Lodi Winegrape Commission by phone at 209.367.4727 or email stephanie@lodiwine.com. \n 
URL:https://lodigrowers.com/event/lodi-rules-sustainable-vision-workshop-7/
LOCATION:Online
CATEGORIES:LODI RULES
END:VEVENT
BEGIN:VEVENT
DTSTART;TZID=America/Los_Angeles:20220428T090000
DTEND;TZID=America/Los_Angeles:20220428T120000
DTSTAMP:20260421T041933
CREATED:20220418T224626Z
LAST-MODIFIED:20220418T230944Z
UID:10000797-1651136400-1651147200@lodigrowers.com
SUMMARY:LODI RULES SUSTAINABLE VISION WORKSHOP
DESCRIPTION:  \nLODI RULES SUSTAINABLE VISION WORKSHOP.\nDate: Thursday\, April 28\, 2022 \nTime: 9:00am – 12:00pm (PDT) \nVenue: Online via GoToMeeting \nPlease join this interactive meeting from your computer with a video and headset (headphones plus a microphone).\nhttps://meet.goto.com/LodiRules/sustainability \nDescription: This workshop hosted by conservationist Kent Reeves satisfies part of the requirement for LODI RULES Standard 1.1. Once you attend one vision workshop\, it counts for your lifetime. All growers\, wineries\, and LODI RULES community members are welcome to attend. \nFor more information: Contact the Lodi Winegrape Commission by phone 209.367.4727 or email stephanie@lodiwine.com.
URL:https://lodigrowers.com/event/27940/
LOCATION:Online
END:VEVENT
END:VCALENDAR