BEGIN:VCALENDAR
VERSION:2.0
PRODID:-//Lodi Growers - ECPv6.15.20//NONSGML v1.0//EN
CALSCALE:GREGORIAN
METHOD:PUBLISH
X-WR-CALNAME:Lodi Growers
X-ORIGINAL-URL:https://lodigrowers.com
X-WR-CALDESC:Events for Lodi Growers
REFRESH-INTERVAL;VALUE=DURATION:PT1H
X-Robots-Tag:noindex
X-PUBLISHED-TTL:PT1H
BEGIN:VTIMEZONE
TZID:America/Los_Angeles
BEGIN:DAYLIGHT
TZOFFSETFROM:-0800
TZOFFSETTO:-0700
TZNAME:PDT
DTSTART:20230312T100000
END:DAYLIGHT
BEGIN:STANDARD
TZOFFSETFROM:-0700
TZOFFSETTO:-0800
TZNAME:PST
DTSTART:20231105T090000
END:STANDARD
BEGIN:DAYLIGHT
TZOFFSETFROM:-0800
TZOFFSETTO:-0700
TZNAME:PDT
DTSTART:20240310T100000
END:DAYLIGHT
BEGIN:STANDARD
TZOFFSETFROM:-0700
TZOFFSETTO:-0800
TZNAME:PST
DTSTART:20241103T090000
END:STANDARD
BEGIN:DAYLIGHT
TZOFFSETFROM:-0800
TZOFFSETTO:-0700
TZNAME:PDT
DTSTART:20250309T100000
END:DAYLIGHT
BEGIN:STANDARD
TZOFFSETFROM:-0700
TZOFFSETTO:-0800
TZNAME:PST
DTSTART:20251102T090000
END:STANDARD
END:VTIMEZONE
BEGIN:VEVENT
DTSTART;TZID=America/Los_Angeles:20240123T093000
DTEND;TZID=America/Los_Angeles:20240123T110000
DTSTAMP:20260420T042034
CREATED:20240122T195110Z
LAST-MODIFIED:20240122T195110Z
UID:10001488-1706002200-1706007600@lodigrowers.com
SUMMARY:VITICULTURE X GAMES: EXTREME WEATHER WINEGROWING
DESCRIPTION:VITICULTURE X GAMES: EXTREME WEATHER WINEGROWING\nDate:  Tuesday\, January 23\, 2024 \nTime:  9:30 – 11:00am \nVenue:  SAFE Credit Union Convention Center Ballroom B6\, 1400 J Street\, Sacramento\, CA 95814 \nCost:  Click HERE for pricing \nCredits:  1.5 hrs CCA CEU (Climate Effects on Production Agriculture) – approved \nSpeakers: \n\nStephanie Bolton\, PhD\, Lodi Winegrape Commission – Moderator\nBen Kolber\, KG Vineyard Management\nMark Krstic\, PhD\, Australian Wine Research Institute\nMisty Oebel\, MS\, Michigan State University Extension\n\nDescription:  The wine industry across the globe is experiencing an increasing number and frequency of devastating extreme weather events\, including wildfires\, floods\, hurricanes\, heat domes\, earthquakes\, frosts\, spring freezes\, windstorms\, and droughts. We’ll briefly commiserate over the wildest examples of wine region weather disasters then invite a panel of practitioners to discuss\, with audience participation\, how we can best prepare for and respond to these chaotic conditions with energy and strength. Nearly all climate talks focus on building resiliency into our vineyards\, but we’re adding an important missing piece: how to build resiliency in ourselves\, our employees\, and our wine regions. All are welcome and encouraged to attend. \nAgenda: \n9:30 – 9:35am     Opening introduction with examples of extreme weather events\n9:35 – 9:45am     Share at tables: What is the WORST extreme weather agriculture story you have experienced\, seen\, or heard about?\n9:45 – 10:05am     Keynote presentation by Dr. Mark Krstic on extreme weather effects\n10:05 – 10:15am     Presentation by Misty Oebel on farmer well-being under chaos and stress\n10:15 – 10:25am     The grower perspective conversation with Ben Kolber\n10:25 – 10:35am     Audience Q&A\n10:35 – 10:50am     Table brainstorming facilitated by leaders on how to build resiliency into our wine culture\n10:50 – 11:00am     Closing remarks – each table shares one practical thought \nHandout:  Available here.
URL:https://lodigrowers.com/event/viticulture-x-games-extreme-weather-winegrowing/
LOCATION:SAFE Credit Union Convention Center\, 1400 J Street\, Sacramento\, CA\, 95814\, United States
GEO:38.5786212;-121.488016
X-APPLE-STRUCTURED-LOCATION;VALUE=URI;X-ADDRESS=SAFE Credit Union Convention Center 1400 J Street Sacramento CA 95814 United States;X-APPLE-RADIUS=500;X-TITLE=1400 J Street:geo:-121.488016,38.5786212
END:VEVENT
END:VCALENDAR