BEGIN:VCALENDAR
VERSION:2.0
PRODID:-//Lodi Growers - ECPv6.15.20//NONSGML v1.0//EN
CALSCALE:GREGORIAN
METHOD:PUBLISH
X-ORIGINAL-URL:https://lodigrowers.com
X-WR-CALDESC:Events for Lodi Growers
REFRESH-INTERVAL;VALUE=DURATION:PT1H
X-Robots-Tag:noindex
X-PUBLISHED-TTL:PT1H
BEGIN:VTIMEZONE
TZID:America/Los_Angeles
BEGIN:DAYLIGHT
TZOFFSETFROM:-0800
TZOFFSETTO:-0700
TZNAME:PDT
DTSTART:20130310T100000
END:DAYLIGHT
BEGIN:STANDARD
TZOFFSETFROM:-0700
TZOFFSETTO:-0800
TZNAME:PST
DTSTART:20131103T090000
END:STANDARD
BEGIN:DAYLIGHT
TZOFFSETFROM:-0800
TZOFFSETTO:-0700
TZNAME:PDT
DTSTART:20140309T100000
END:DAYLIGHT
BEGIN:STANDARD
TZOFFSETFROM:-0700
TZOFFSETTO:-0800
TZNAME:PST
DTSTART:20141102T090000
END:STANDARD
BEGIN:DAYLIGHT
TZOFFSETFROM:-0800
TZOFFSETTO:-0700
TZNAME:PDT
DTSTART:20150308T100000
END:DAYLIGHT
BEGIN:STANDARD
TZOFFSETFROM:-0700
TZOFFSETTO:-0800
TZNAME:PST
DTSTART:20151101T090000
END:STANDARD
END:VTIMEZONE
BEGIN:VEVENT
DTSTART;TZID=America/Los_Angeles:20140801T120000
DTEND;TZID=America/Los_Angeles:20140801T140000
DTSTAMP:20260423T173804
CREATED:20140729T002357Z
LAST-MODIFIED:20140729T002357Z
UID:10000110-1406894400-1406901600@lodigrowers.com
SUMMARY:LMRWSSC Mtg (8/1)
DESCRIPTION:For Download: 070314minutes \nLower Mokelumne River Watershed Stewardship Steering Committee \nFriday August 1\, 2014 \nUSDA Plant Materials Center \n21001 N. Elliott Rd. \nLockeford\, CA \n12:00-2:00 pm \nAGENDA \nRoll Call/Introductions \nAdditions/Deletions to Agenda \nApproval of Minutes \n1. Old Business \nA. Ecosystem Services Pilot Project\nB. MokeWISE Program Update\nC. Irrigated Lands Program Update \n2. New Business \nA. Watershed Coordinator\nB. FARMS Leadership/SLEWS\nC. Other New Business \n3. Adjourn \nAgenda items are subject to change and additional items may be added at the discretion of the chairman.
URL:https://lodigrowers.com/event/lmrwssc-mtg-81/
LOCATION:USDA Plant Materials Center\, 21001 N. Elliott Rd.\, Lockeford\, CA\, United States
GEO:38.1760975;-121.1641036
X-APPLE-STRUCTURED-LOCATION;VALUE=URI;X-ADDRESS=USDA Plant Materials Center 21001 N. Elliott Rd. Lockeford CA United States;X-APPLE-RADIUS=500;X-TITLE=21001 N. Elliott Rd.:geo:-121.1641036,38.1760975
END:VEVENT
END:VCALENDAR